BEGIN:VCALENDAR
PRODID:NingEventWidget-v1
VERSION:2.0
METHOD:PUBLISH
BEGIN:VEVENT
UID:4320450:Event:35608
DTSTAMP:20260425T191328Z
SUMMARY:Free For All Comedy presents: The Magnificent Seven
DESCRIPTION:On Wednesday, February 26th, FREE FOR ALL Comedy presents
 The Magnificent Seven, a stand-up comedy showcase at Boot & Saddle (1
 131 S. Broad Street). Doors open at 8pm and the show starts at 9pm. Ti
 ckets are $7. Get ‘em in advance here!\nThe line-up for the show i
 ncludes FREE FOR ALL hosts Aaron Hertzog and Alison Zeidman, along wit
 h some of Philly’s top local comics:\nChip Chantry – Winner, 2013
  Philly’s Phunniest competition at Helium Comedy ClubDarryl Charles
 – Regular performer at Helium Comedy Club and ComedySportz Philadel
 phiaJohn McKeever – Writer/director of the viral video hit “Sames
 ies,” featured on Huffington PostTim Butterly – Semi-finalist, 20
 13 Philly’s Phunniest competitionCarl Boccuti – Finalist, 2013 Ph
 illy’s Phunniest competition\n\nFor more information visit http://ph
 illytodo.com/events/free-for-all-comedy-presents-the-magnificent-seven
DTSTART:20140227T010000Z
DTEND:20140227T040000Z
CATEGORIES:stand-up, comedy
LOCATION:Boot & Saddle
WEBSITE:http://www.bootandsaddlephilly.com/event/462149
URL:http://www.bootandsaddlephilly.com/event/462149
CONTACT:
ORGANIZER;CN="Free For All":http://phillytodo.com/profile/FreeForAll
ATTACH;FMTTYPE="image/jpeg":http://storage.ning.com/topology/rest/1.0/
 file/get/3054973504?profile=original
ATTENDEE;ROLE=REQ-PARTICIPANT;PARTSTAT=ACCEPTED;RSVP=TRUE;CN="Free For
  All":http://phillytodo.com/profile/FreeForAll
END:VEVENT
END:VCALENDAR
