BEGIN:VCALENDAR
PRODID:NingEventWidget-v1
VERSION:2.0
METHOD:PUBLISH
BEGIN:VEVENT
UID:4320450:Event:35779
DTSTAMP:20260425T155526Z
SUMMARY:Free For All Comedy presents: The Magnificent Seven Part II
DESCRIPTION:FREE FOR ALL Comedy presents: The Magnificent Seven Part I
 I is a stand-up comedy showcase at Boot & Saddle (1131 South Broad St.
 ) featuring some of Philly's top comedians including hosts Aaron Hertz
 og and Alison Zeidman along with:\n \nTommy Pope (Just For Laughs Com
 edy Festival, 2011 Philly's Phunniest Winner)\nJames Hesky (2012 Phill
 y's Phunniest Winner)\nAlex Grubard (Helium Comedy Club)\nRyan Shaner 
 (Center City Comedy)\nJohn Nunn (an idiot who currently resides in New
  York City)\n \nGet your tickets online here.\n \n$7. Doors open at 
 8pm, Show starts at 9.\n\nFor more information visit http://phillytodo
 .com/events/free-for-all-comedy-presents-the-magnificent-seven-part-ii
DTSTART:20140401T000000Z
DTEND:20140401T030000Z
CATEGORIES:stand-up, comedy
LOCATION:Boot & Saddle
WEBSITE:http://www.bootandsaddlephilly.com/event/516343-free-for-all-c
 omedy-philadelphia/
URL:http://www.bootandsaddlephilly.com/event/516343-free-for-all-comed
 y-philadelphia/
CONTACT:
ORGANIZER;CN="Free For All":http://phillytodo.com/profile/FreeForAll
ATTACH;FMTTYPE="image/jpeg":http://storage.ning.com/topology/rest/1.0/
 file/get/3054973707?profile=original
ATTENDEE;ROLE=REQ-PARTICIPANT;PARTSTAT=ACCEPTED;RSVP=TRUE;CN="Free For
  All":http://phillytodo.com/profile/FreeForAll
END:VEVENT
END:VCALENDAR
