BEGIN:VCALENDAR
PRODID:NingEventWidget-v1
VERSION:2.0
METHOD:PUBLISH
BEGIN:VEVENT
UID:4320450:Event:33108
DTSTAMP:20260425T160041Z
SUMMARY:Free For All
DESCRIPTION:Free For All is a weekly stand-up comedy showcase at Rembr
 andt's (741 N. 23rd St. Philadelphia). Every Wednesday, hosts Aaron He
 rtzog and Alison Zeidman bring the best comedians in Philadelphia to t
 he stage for a free show unlike any other in the city.  The line-up fo
 r this week's show is: Chip Chantry Sidney Gantt James Hesky Doogie Ho
 rner David James Mary Radzinski Ryan Shaner Roger Weaver  Doors at 7:3
 0pm Show at 8pm $FREE.99\n\nFor more information visit http://phillyto
 do.com/events/free-for-all-4
DTSTART:20130710T233000Z
DTEND:20130711T020000Z
CATEGORIES:stand-up, comedy
LOCATION:Rembrandt's Restaurant & Bar
WEBSITE:http://www.freeforallcomedy.wordpress.com
URL:http://www.freeforallcomedy.wordpress.com
CONTACT:
ORGANIZER;CN="Free For All":http://phillytodo.com/profile/FreeForAll
ATTACH;FMTTYPE="image/jpeg":http://storage.ning.com/topology/rest/1.0/
 file/get/3054966759?profile=original
ATTENDEE;ROLE=REQ-PARTICIPANT;PARTSTAT=ACCEPTED;RSVP=TRUE;CN="Free For
  All":http://phillytodo.com/profile/FreeForAll
END:VEVENT
END:VCALENDAR
