BEGIN:VCALENDAR
PRODID:NingEventWidget-v1
VERSION:2.0
METHOD:PUBLISH
BEGIN:VEVENT
UID:4320450:Event:35306
DTSTAMP:20260425T141120Z
SUMMARY:Free For All
DESCRIPTION:Free For All is a weekly stand-up comedy showcase at Rembr
 andt's (741 N. 23rd St. Philadelphia). Every Wednesday, hosts Aaron He
 rtzog and Alison Zeidman bring the best comedians in Philadelphia to t
 he stage for a free show unlike any other in the city.The line-up for 
 this week's show is:Brendan KennedyDan KingBrian SixJohn KensilMike Ra
 ineyAdam NoverDoors at 7:30pmShow at 8pm$FREE.99Great food and $4 Sam 
 Adams drink specials.\n\nFor more information visit http://phillytodo.
 com/events/free-for-all-18
DTSTART:20131128T003000Z
DTEND:20131128T030000Z
CATEGORIES:stand-up, comedy
LOCATION:Rembrandt's
WEBSITE:http://www.freeforallcomedy.wordpress.com
URL:http://www.freeforallcomedy.wordpress.com
CONTACT:
ORGANIZER;CN="Free For All":http://phillytodo.com/profile/FreeForAll
ATTACH;FMTTYPE="image/jpeg":http://storage.ning.com/topology/rest/1.0/
 file/get/3054967226?profile=original
ATTENDEE;ROLE=REQ-PARTICIPANT;PARTSTAT=ACCEPTED;RSVP=TRUE;CN="Free For
  All":http://phillytodo.com/profile/FreeForAll
END:VEVENT
END:VCALENDAR
