BEGIN:VCALENDAR
PRODID:NingEventWidget-v1
VERSION:2.0
METHOD:PUBLISH
BEGIN:VEVENT
UID:4320450:Event:34633
DTSTAMP:20260425T160116Z
SUMMARY:Free For All
DESCRIPTION:THIS WEEK ONLY: Free For All moves to a 9pm start! Free F
 or All is a weekly stand-up comedy showcase at Rembrandt's (741 N. 23r
 d St. Philadelphia). Every Wednesday, hosts Aaron Hertzog and Alison Z
 eidman bring the best comedians in Philadelphia to the stage for a fre
 e show unlike any other in the city.The line-up for this week's show i
 s:Tim ButterlyRyan HillTJ HurleyDavid JamesMike LoganMary RadzinskiDoo
 rs at 8:30pmShow at 9pm$FREE.99Great food and $4 Sam Adams drink speci
 als.\n\nFor more information visit http://phillytodo.com/events/free-f
 or-all-14
DTSTART:20131010T003000Z
DTEND:20131010T023000Z
CATEGORIES:stand-up, comedy
LOCATION:Rembrandt's
WEBSITE:http://www.freeforallcomedy.wordpress.com
URL:http://www.freeforallcomedy.wordpress.com
CONTACT:5702052203
ORGANIZER;CN="Free For All":http://phillytodo.com/profile/FreeForAll
ATTACH;FMTTYPE="image/jpeg":http://storage.ning.com/topology/rest/1.0/
 file/get/3054967469?profile=original
ATTENDEE;ROLE=REQ-PARTICIPANT;PARTSTAT=ACCEPTED;RSVP=TRUE;CN="Free For
  All":http://phillytodo.com/profile/FreeForAll
END:VEVENT
END:VCALENDAR
