BEGIN:VCALENDAR
PRODID:NingEventWidget-v1
VERSION:2.0
METHOD:PUBLISH
BEGIN:VEVENT
UID:4320450:Event:34471
DTSTAMP:20260425T160115Z
SUMMARY:Free For All
DESCRIPTION:Free For All is a weekly stand-up comedy showcase at Rembr
 andt's (741 N. 23rd St. Philadelphia). Every Wednesday, hosts Aaron He
 rtzog and Alison Zeidman bring the best comedians in Philadelphia to t
 he stage for a free show unlike any other in the city.The line-up for 
 this week's show is:Tim ButterlyJon DelColloJim GrammondAlex GrubardT.
 j. HurleyPat KellyAndy NolanRoger WeaverDoors at 7:30pmShow at 8pm$FRE
 E.99Great food and $4 Sam Adams drink specials.\n\nFor more informatio
 n visit http://phillytodo.com/events/free-for-all-12
DTSTART:20130918T233000Z
DTEND:20130919T020000Z
CATEGORIES:stand-up, comedy
LOCATION:Rembrandt's
WEBSITE:http://www.freeforallcomedy.wordpress.com
URL:http://www.freeforallcomedy.wordpress.com
CONTACT:
ORGANIZER;CN="Free For All":http://phillytodo.com/profile/FreeForAll
ATTACH;FMTTYPE="image/jpeg":http://storage.ning.com/topology/rest/1.0/
 file/get/3054967277?profile=original
ATTENDEE;ROLE=REQ-PARTICIPANT;PARTSTAT=ACCEPTED;RSVP=TRUE;CN="Free For
  All":http://phillytodo.com/profile/FreeForAll
END:VEVENT
END:VCALENDAR
