BEGIN:VCALENDAR
PRODID:NingEventWidget-v1
VERSION:2.0
METHOD:PUBLISH
BEGIN:VEVENT
UID:4320450:Event:34208
DTSTAMP:20260425T144251Z
SUMMARY:Free For All
DESCRIPTION:Free For All is a weekly stand-up comedy showcase at Rembr
 andt's (741 N. 23rd St. Philadelphia). Every Wednesday, hosts Aaron He
 rtzog and Alison Zeidman bring the best comedians in Philadelphia to t
 he stage for a free show unlike any other in the city.The line-up for 
 this week's show is:Carolyn BusaChip ChantryShannon DevidoJoseph Dough
 ertyMatt MonroeMary RadzinskiSteve SwanDave TerrusoTim WarnerDoors at 
 7:30pmShow at 8pm$FREE.99Great food and $4 Sam Adams drink specials.\n
 \nFor more information visit http://phillytodo.com/events/free-for-all
 -11
DTSTART:20130911T233000Z
DTEND:20130912T020000Z
CATEGORIES:stand-up, comedy
LOCATION:Rembrandt's
WEBSITE:http://www.freeforallcomedy.wordpress.com
URL:http://www.freeforallcomedy.wordpress.com
CONTACT:5702052203
ORGANIZER;CN="Free For All":http://phillytodo.com/profile/FreeForAll
ATTACH;FMTTYPE="image/jpeg":http://storage.ning.com/topology/rest/1.0/
 file/get/3054967747?profile=original
ATTENDEE;ROLE=REQ-PARTICIPANT;PARTSTAT=ACCEPTED;RSVP=TRUE;CN="Free For
  All":http://phillytodo.com/profile/FreeForAll
END:VEVENT
END:VCALENDAR
