BEGIN:VCALENDAR
PRODID:NingEventWidget-v1
VERSION:2.0
METHOD:PUBLISH
BEGIN:VEVENT
UID:4320450:Event:33533
DTSTAMP:20260425T143451Z
SUMMARY:Free Class: Meditation and Modern Buddhism
DESCRIPTION:Learn how meditation and Buddhist teachings can bring peac
 e and happiness to our busy, modern lives.  In this free class Buddhi
 st monk Gen Tenzin will explain how we can practice love and compassio
 n and incorporate meditation into our daily lives to improve our relat
 ionships, create harmony in our communities, and achieve lasting inner
  peace.\nEveryone is welcome to attend.  There is no cost for this ev
 ent.\nAfter-party to follow!\n\nFor more information visit http://phil
 lytodo.com/events/free-class-meditation-and-modern-buddhism
DTSTART:20130912T230000Z
DTEND:20130913T003000Z
CATEGORIES:meditation, class, buddhism, wellness, spiritual, buddhist,
  free
LOCATION:Amitayus Kadampa Buddhist Center
WEBSITE:http://meditationinphiladelphia.org/free-public-talk-meditatio
 n-and-modern-buddhism/
URL:http://meditationinphiladelphia.org/free-public-talk-meditation-an
 d-modern-buddhism/
CONTACT:267-702-4083
ORGANIZER;CN="Education Program Coordinator":http://phillytodo.com/pro
 file/EducationProgramCoordinator
ATTACH;FMTTYPE="image/jpeg":
ATTENDEE;ROLE=REQ-PARTICIPANT;PARTSTAT=ACCEPTED;RSVP=TRUE;CN="Educatio
 n Program Coordinator":http://phillytodo.com/profile/EducationProgramC
 oordinator
END:VEVENT
END:VCALENDAR
