BEGIN:VCALENDAR
PRODID:NingEventWidget-v1
VERSION:2.0
METHOD:PUBLISH
BEGIN:VEVENT
UID:4320450:Event:40507
DTSTAMP:20260425T125825Z
SUMMARY:FREE Boot Camp and Healthy Happy Hour
DESCRIPTION:Join Flavorpill and Naked Juice for a FREE Boot Camp and H
 ealthy Happy Hour on Thursday, 3/12 (6:30–8:30pm) at Impact Hub Phil
 adelphia. \nRSVP to this twist on teambuilding, featuring a bootcamp 
 fitness class with the incredible Jayel Lewis, refreshing Naked Juice 
 (duh), and zero trust falls (thank goodness).\nRSVP here: http://theho
 okup.flavorpill.com/naked-juice-health-happy-hour-philadelphia/\nAbout
  the trainer:\nAlong with her B.S. in Health Sciences and Nutrition, J
 ayel Lewis a certified personal trainer and nutritionist currently tra
 ining internationally, and based in Philadelphia, Pennsylvania.\n\nFor
  more information visit http://phillytodo.com/events/free-boot-camp-an
 d-healthy-happy-hour
DTSTART:20150312T223000Z
DTEND:20150313T003000Z
CATEGORIES:fitness, class
LOCATION:Impact Hub Philadelphia
WEBSITE:http://thehookup.flavorpill.com/naked-juice-health-happy-hour-
 philadelphia/
URL:http://thehookup.flavorpill.com/naked-juice-health-happy-hour-phil
 adelphia/
CONTACT:
ORGANIZER:Flavorpill Media
ATTACH;FMTTYPE="image/jpeg":http://storage.ning.com/topology/rest/1.0/
 file/get/3054987135?profile=original
ATTENDEE;ROLE=REQ-PARTICIPANT;PARTSTAT=ACCEPTED;RSVP=TRUE;CN="Weezie Y
 ancey-Siegel":http://phillytodo.com/profile/WeezieYanceySiegel
END:VEVENT
END:VCALENDAR
