BEGIN:VCALENDAR
PRODID:NingEventWidget-v1
VERSION:2.0
METHOD:PUBLISH
BEGIN:VEVENT
UID:4320450:Event:2311
DTSTAMP:20260425T142535Z
SUMMARY:FREE Argentine Tango Dancing in SUBURBAN SQUARE starting Sat. 
 September 18th.
DESCRIPTION:Beginning this Saturday, September 18, 2010 at 4:00 p.m., 
 the award-winning Tango 411 School is having their first Argentine Mil
 onga Tango event at SUBURBAN SQUARE in Ardmore!! The event is FREE and
  an opportunity for individuals to learn the art of TANGO! Tango 411 S
 chool will dance at Suburban Square every THIRD SATURDAY of the month,
  so get your dancing shoes ready!!!\n\nFor more information visit http
 ://phillytodo.com/events/free-argentine-tango-dancing
DTSTART:20100918T200000Z
DTEND:20100918T230000Z
CATEGORIES:dance
LOCATION:Suburban Square
WEBSITE:
URL:
CONTACT:
ORGANIZER;CN="Valerie Bunsick":http://phillytodo.com/profile/ValerieBu
 nsick
ATTACH;FMTTYPE="image/jpeg":http://storage.ning.com/topology/rest/1.0/
 file/get/3054950461?profile=original
ATTENDEE;ROLE=REQ-PARTICIPANT;PARTSTAT=ACCEPTED;RSVP=TRUE;CN="Valerie 
 Bunsick":http://phillytodo.com/profile/ValerieBunsick
END:VEVENT
END:VCALENDAR
