BEGIN:VCALENDAR
PRODID:NingEventWidget-v1
VERSION:2.0
METHOD:PUBLISH
BEGIN:VEVENT
UID:4320450:Event:2315
DTSTAMP:20260425T193403Z
SUMMARY:FREE All Levels Vinyasa Yoga Class
DESCRIPTION:Free All Levels Vinyasa Class. In celebration of September
 , national Yoga Month, and the fall equinox we will be offering this s
 pecial FREE All Levels Vinyasa class.\n\nVinyasa means to link movemen
 t with breath and intention… join us for this fun, vigorous and chal
 lenging class with a exciting soundtrack taught in a flow-style, inter
 -linking poses through a series of movements. This is the perfect way 
 to unwind at the end of the week and get ready for the weekend! All le
 vels of Yogis welcome!\n\nFor more information visit http://phillytodo
 .com/events/free-all-levels-vinyasa-yoga
DTSTART:20100922T224500Z
DTEND:20100922T234500Z
CATEGORIES:yoga, class, -, free
LOCATION:Shanti Yoga Shala
WEBSITE:http://www.shantiyogashala.org
URL:http://www.shantiyogashala.org
CONTACT:215-923-9642
ORGANIZER;CN="Shanti Yoga Shala":http://phillytodo.com/profile/ShantiY
 ogaShala
ATTACH;FMTTYPE="image/jpeg":http://storage.ning.com/topology/rest/1.0/
 file/get/3054950564?profile=original
ATTENDEE;ROLE=REQ-PARTICIPANT;PARTSTAT=ACCEPTED;RSVP=TRUE;CN="Shanti Y
 oga Shala":http://phillytodo.com/profile/ShantiYogaShala
END:VEVENT
END:VCALENDAR
