BEGIN:VCALENDAR
PRODID:NingEventWidget-v1
VERSION:2.0
METHOD:PUBLISH
BEGIN:VEVENT
UID:4320450:Event:38560
DTSTAMP:20260425T144804Z
SUMMARY:FREAK SHOW: A Philadelphia Horror Story at Union Trust
DESCRIPTION:Halloween 2014 in Philadelphia!  This year, it's time to 
 get your FREAK on at the newly-renovated, ultra-exclusive, one-of-a-ki
 nd Union Trust. No one can be sure how many ghouls still roam the hall
 ways, doomed to dance the rest of their post mortal days away in this 
 amazing party space, but one thing is for sure... they are doing it in
  the hottest venue in Philadelphia. Join them on Friday, October 31st
  with a 3-hour open bar as the DJs spin your favorite dance hits and 
 transforms this haunted bank into a night you'll never forget. This is
  absolutely the most exclusive Halloween party in Philadelphia this ye
 ar.\n \nTickets Include: Costume contest - over $1,000 in cash!  Inc
 redible DJ lineup featuring DJ Montone, DJ Jason Weiss, and DJ Dan Cro
 nin!, VIP Open Bar Tickets with your cover charge and upgraded 3-hour 
 Premium VIP OPEN BAR from 9pm to 12am, exclusive mezzanine access - w
 atch the party from high above. Bottle Service Packages Available - se
 e website for more info.\n \nTickets & More Info:  http://www.upcom
 ingevents.com/philadelphia/freak-show-halloween-party/ptodo/\n\nFor mo
 re information visit http://phillytodo.com/events/freak-show-a-philade
 lphia-horror-story-at-union-trust
DTSTART:20141101T000000Z
DTEND:20141101T060000Z
CATEGORIES:halloween, party
LOCATION:Union Trust
WEBSITE:http://www.upcomingevents.com/philadelphia/freak-show-hallowee
 n-party/ptodo/
URL:http://www.upcomingevents.com/philadelphia/freak-show-halloween-pa
 rty/ptodo/
CONTACT:(215) 627-5100
ORGANIZER;CN="UpcomingEvents.com":http://phillytodo.com/profile/Upcomi
 ngEventscom
ATTACH;FMTTYPE="image/jpeg":http://storage.ning.com/topology/rest/1.0/
 file/get/3054980763?profile=original
ATTENDEE;ROLE=REQ-PARTICIPANT;PARTSTAT=ACCEPTED;RSVP=TRUE;CN="Upcoming
 Events.com":http://phillytodo.com/profile/UpcomingEventscom
END:VEVENT
END:VCALENDAR
