BEGIN:VCALENDAR
PRODID:NingEventWidget-v1
VERSION:2.0
METHOD:PUBLISH
BEGIN:VEVENT
UID:4320450:Event:9402
DTSTAMP:20260425T132527Z
SUMMARY:Franklin Square's Mother's Day Celebration
DESCRIPTION:Make a gift for Mom, FREE! Mom is FREE with a child golf t
 icket.\n\nFor more information visit http://phillytodo.com/events/fran
 klin-squares-mothers-day
DTSTART:20110507T160000Z
DTEND:20110508T190000Z
CATEGORIES:"mother's", day
LOCATION:Franklin Square
WEBSITE:
URL:
CONTACT:
ORGANIZER;CN="Cari Feiler Bender":http://phillytodo.com/profile/CariFe
 ilerBender
ATTACH;FMTTYPE="image/jpeg":http://storage.ning.com/topology/rest/1.0/
 file/get/3054954263?profile=original
ATTENDEE;ROLE=REQ-PARTICIPANT;PARTSTAT=ACCEPTED;RSVP=TRUE;CN="Cari Fei
 ler Bender":http://phillytodo.com/profile/CariFeilerBender
END:VEVENT
END:VCALENDAR
