BEGIN:VCALENDAR
PRODID:NingEventWidget-v1
VERSION:2.0
METHOD:PUBLISH
BEGIN:VEVENT
UID:4320450:Event:7213
DTSTAMP:20260425T160043Z
SUMMARY:Franklin Square's Great Egg Hunt
DESCRIPTION:THE GREAT EGG HUNT, 12-3 p.m.  – The Easter egg hunt on
  the Great Lawn is fast becoming a Philadelphia tradition.  While sup
 plies last.\n\nFor more information visit http://phillytodo.com/events
 /franklin-squares-great-egg
DTSTART:20110424T160000Z
DTEND:20110424T190000Z
CATEGORIES:special, event
LOCATION:Franklin Square
WEBSITE:
URL:
CONTACT:610-527-7673
ORGANIZER:Historic Philadelphia Inc.
ATTACH;FMTTYPE="image/jpeg":http://storage.ning.com/topology/rest/1.0/
 file/get/3054954263?profile=original
ATTENDEE;ROLE=REQ-PARTICIPANT;PARTSTAT=ACCEPTED;RSVP=TRUE;CN="Cari Fei
 ler Bender":http://phillytodo.com/profile/CariFeilerBender
END:VEVENT
END:VCALENDAR
