BEGIN:VCALENDAR
PRODID:NingEventWidget-v1
VERSION:2.0
METHOD:PUBLISH
BEGIN:VEVENT
UID:4320450:Event:50204
DTSTAMP:20260425T124328Z
SUMMARY:Franklin Square Summer Movie Series
DESCRIPTION:Take your Saturday movie night to Franklin Square! Bring a
  blanket and experience these cinematic hits on the Great Lawn. Games 
 and pre-show activities will begin at 7 PM, and the featured films wil
 l be shown at 8:30 PM. Parks on Tap Jr. will provide a beer garden and
  other specialties on July 8 and August 19 only. Admission is free.  
 \n\nJuly 3: Sing\nJuly 8: The Secret Life of Pets\nJuly 22: Ferris 
 Bueller’s Day Off\nAugust 5: Lego Batman\nAugust 19: Finding Dory\
 n\n\nFor more information visit http://phillytodo.com/events/franklin-
 square-summer-movie-series
DTSTART:20170703T230000Z
DTEND:20170820T030000Z
CATEGORIES:summer, movie
LOCATION:Franklin Square
WEBSITE:
URL:
CONTACT:2156294026
ORGANIZER:Historic Philadelphia, Inc.
ATTACH;FMTTYPE="image/jpeg":
ATTENDEE;ROLE=REQ-PARTICIPANT;PARTSTAT=ACCEPTED;RSVP=TRUE;CN="Cari Fei
 ler Bender":http://phillytodo.com/profile/CariFeilerBender
END:VEVENT
END:VCALENDAR
