BEGIN:VCALENDAR
PRODID:NingEventWidget-v1
VERSION:2.0
METHOD:PUBLISH
BEGIN:VEVENT
UID:4320450:Event:56159
DTSTAMP:20260425T160205Z
SUMMARY:Franklin Square's Spooky Mini Golf
DESCRIPTION:Center City’s ONLY miniature golf course, Philly Mini Go
 lf is transformed into spooky fun for the Fall season with fog, lights
 , music, and surprises. Putt your way through 18 holes designed after 
 favorite Philly spots like the Ben Franklin Bridge and the Liberty Bel
 l ($9 adults, $7 children ages 3-12, FREE for children 2 and under). E
 vent runs Fridays, Saturdays and Sundays through dates listed.\n\nFor 
 more information visit http://phillytodo.com/events/franklin-square-s-
 spooky-mini-golf
DTSTART:20181005T220000Z
DTEND:20181029T010000Z
CATEGORIES:holiday, kid, friendly
LOCATION:Franklin Square
WEBSITE:http://historicphiladelphia.org/franklin-square/what-to-see/
URL:http://historicphiladelphia.org/franklin-square/what-to-see/
CONTACT:6104161216
ORGANIZER;CN="Cari Feiler Bender":http://phillytodo.com/profile/CariFe
 ilerBender
ATTACH;FMTTYPE="image/jpeg":http://storage.ning.com/topology/rest/1.0/
 file/get/3055015782?profile=original
ATTENDEE;ROLE=REQ-PARTICIPANT;PARTSTAT=ACCEPTED;RSVP=TRUE;CN="Cari Fei
 ler Bender":http://phillytodo.com/profile/CariFeilerBender
END:VEVENT
END:VCALENDAR
