BEGIN:VCALENDAR
PRODID:NingEventWidget-v1
VERSION:2.0
METHOD:PUBLISH
BEGIN:VEVENT
UID:4320450:Event:38106
DTSTAMP:20260425T125825Z
SUMMARY:Franklin Square's 8th Birthday Party
DESCRIPTION:Commemorate the Square’s 8th birthday with cake, cut by 
 Ben Franklin himself. FREE. \n\nFun family entertainment and a beauti
 ful park are just steps away from the Liberty Bell, in one of William 
 Penn’s original five squares, and the only one dedicated to fun.  A
 ward-winning Franklin Square is a family-friendly play place located i
 n the heart of Historic Philadelphia, featuring Philly Mini Golf, a re
 novated vintage marble fountain, playgrounds, the Parx Liberty Carouse
 l, and the acclaimed SquareBurger, with offerings from STARR Restauran
 ts.  After a day of experiencing the treasures of  Philadelphia’s 
 history, putt through some of the city’s most famous icons, take a r
 ide on hometown racehorse heroes Afleet Alex or Smarty Jones aboard th
 e carousel, enjoy a rest next to the refreshing fountain, and dine on 
 the finest burgers and shakes in town.  All summer long, enjoy storie
 s about our nation’s history from the Once Upon A Nation storyteller
 .  Awarded Best of Philly® two times by Philadelphia Magazine and on
 e of the Five Coolest Playgrounds in the United States by Yahoo!\nFran
 klin Square: 6th & Race Streets.  Franklin Square opens daily, 7 days
  a week, at 10 am. SquareBurger is open 7 days a week through October 
 31, opening at 11:30 am Mondays - Thursdays, 11 am on Fridays - Sunday
 s.  Closing hours vary by season. All hours are weather permitting.\n
 \nFor more information visit http://phillytodo.com/events/franklin-squ
 are-s-8th-birthday-party-1
DTSTART:20140731T150000Z
DTEND:20140731T180000Z
CATEGORIES:birthday, party
LOCATION:Franklin Square
WEBSITE:
URL:
CONTACT:
ORGANIZER;CN="Cari Feiler Bender":http://phillytodo.com/profile/CariFe
 ilerBender
ATTACH;FMTTYPE="image/jpeg":http://storage.ning.com/topology/rest/1.0/
 file/get/3054962820?profile=original
ATTENDEE;ROLE=REQ-PARTICIPANT;PARTSTAT=ACCEPTED;RSVP=TRUE;CN="Cari Fei
 ler Bender":http://phillytodo.com/profile/CariFeilerBender
END:VEVENT
END:VCALENDAR
