BEGIN:VCALENDAR
PRODID:NingEventWidget-v1
VERSION:2.0
METHOD:PUBLISH
BEGIN:VEVENT
UID:4320450:Event:26128
DTSTAMP:20260425T143451Z
SUMMARY:Franklin Square's 6th Birthday Party
DESCRIPTION:Franklin Square’s 6th Birthday Party – Wish the Square
  happy birthday with cake, cut by Ben Franklin himself, and make-your-
 own party hats.  FREE!*\n\nFor more information visit http://phillyto
 do.com/events/franklin-square-s-6th-birthday-party
DTSTART:20120731T150000Z
DTEND:20120731T160000Z
CATEGORIES:birthday, party
LOCATION:Franklin Square
WEBSITE:http://www.historicphiladelphia.org
URL:http://www.historicphiladelphia.org
CONTACT:215-629-4026
ORGANIZER;CN="Cari Feiler Bender":http://phillytodo.com/profile/CariFe
 ilerBender
ATTACH;FMTTYPE="image/jpeg":http://storage.ning.com/topology/rest/1.0/
 file/get/3054958509?profile=original
ATTENDEE;ROLE=REQ-PARTICIPANT;PARTSTAT=ACCEPTED;RSVP=TRUE;CN="Cari Fei
 ler Bender":http://phillytodo.com/profile/CariFeilerBender
END:VEVENT
END:VCALENDAR
