BEGIN:VCALENDAR
PRODID:NingEventWidget-v1
VERSION:2.0
METHOD:PUBLISH
BEGIN:VEVENT
UID:4320450:Event:46764
DTSTAMP:20260425T125026Z
SUMMARY:Franklin Square's 10th Birthday Celebration
DESCRIPTION:Join Ben Franklin as he blows out the candles for the Squa
 re's 10th birthday celebration with cake and plenty of fun, free activ
 ities.\n\nFor more information visit http://phillytodo.com/events/fran
 klin-square-s-10th-birthday-celebration
DTSTART:20160731T150000Z
DTEND:20160731T180000Z
CATEGORIES:birthday, celebration
LOCATION:Franklin Square
WEBSITE:http://historicphiladelphia.org/franklin-square/upcoming-event
 s/
URL:http://historicphiladelphia.org/franklin-square/upcoming-events/
CONTACT:
ORGANIZER:Franklin Square
ATTACH;FMTTYPE="image/jpeg":http://storage.ning.com/topology/rest/1.0/
 file/get/3054995503?profile=original
ATTENDEE;ROLE=REQ-PARTICIPANT;PARTSTAT=ACCEPTED;RSVP=TRUE;CN="Bryan Ch
 an":http://phillytodo.com/profile/BryanChan
END:VEVENT
END:VCALENDAR
