BEGIN:VCALENDAR
PRODID:NingEventWidget-v1
VERSION:2.0
METHOD:PUBLISH
BEGIN:VEVENT
UID:4320450:Event:26726
DTSTAMP:20260425T142632Z
SUMMARY:Franklin Square Memorial Day Celebration
DESCRIPTION:May 25 – 28 – Memorial Day Celebration –  Kick off 
 the summer season with activities for the whole family.  FREE!* 12-3:
 00pmFun family entertainment and a beautiful park are just steps away 
 from the Liberty Bell, in one of William Penn’s original five square
 s. \n\nFor more information visit http://phillytodo.com/events/frankl
 in-square-memorial-day-celebration
DTSTART:20120525T160000Z
DTEND:20120528T190000Z
CATEGORIES:celebration, memorial, day, family, friendly, kids, activit
 ies, free
LOCATION:Franklin Square
WEBSITE:http://www.historicphiladelphia.org
URL:http://www.historicphiladelphia.org
CONTACT:215-629-5801
ORGANIZER:Historic Philadelphia, Inc.
ATTACH;FMTTYPE="image/jpeg":http://storage.ning.com/topology/rest/1.0/
 file/get/3054958358?profile=original
ATTENDEE;ROLE=REQ-PARTICIPANT;PARTSTAT=ACCEPTED;RSVP=TRUE;CN="Cari Fei
 ler Bender":http://phillytodo.com/profile/CariFeilerBender
END:VEVENT
END:VCALENDAR
