BEGIN:VCALENDAR
PRODID:NingEventWidget-v1
VERSION:2.0
METHOD:PUBLISH
BEGIN:VEVENT
UID:4320450:Event:28432
DTSTAMP:20260425T191141Z
SUMMARY:Franklin Square Holiday Kickoff
DESCRIPTION:Visit for the kickoff to the holidays and join Ben Frankl
 in in welcoming Santa to Franklin Square! Attractions open from 5-7 p
 m.\n\nFun family entertainment and a beautiful park are just steps awa
 y from the Liberty Bell, in one of William Penn’s original five squa
 res. Award-winning Franklin Square is an outdoor amusement oasis locat
 ed in the heart of Historic Philadelphia, featuring Philly Mini Golf, 
 a renovated vintage marble fountain, Philadelphia Park Liberty Carouse
 l, and the acclaimed SquareBurger, with offerings from STARR Restauran
 ts. After a day of experiencing the treasures of Philadelphia’s hist
 ory, putt through some of the city’s most famous icons, take a ride 
 on hometown racehorse heroes Afleet Alex or Smarty Jones aboard the ca
 rousel, enjoy a rest next to the refreshing fountain, and dine on the 
 finest burgers and shakes in town. Awarded Best of Philly® two Philad
 elphia Magazine and one of the Five Coolest Playgrounds in the United 
 States. \n\nFor more information visit http://phillytodo.com/events/f
 ranklin-square-holiday-kickoff
DTSTART:20121127T220000Z
DTEND:20121128T000000Z
CATEGORIES:holiday, season
LOCATION:Franklin Square
WEBSITE:http://www.historicphiladelphia.org
URL:http://www.historicphiladelphia.org
CONTACT:215-629-4026
ORGANIZER:Historic Philadelphia, Inc.
ATTACH;FMTTYPE="image/jpeg":
ATTENDEE;ROLE=REQ-PARTICIPANT;PARTSTAT=ACCEPTED;RSVP=TRUE;CN="Cari Fei
 ler Bender":http://phillytodo.com/profile/CariFeilerBender
END:VEVENT
END:VCALENDAR
