BEGIN:VCALENDAR
PRODID:NingEventWidget-v1
VERSION:2.0
METHOD:PUBLISH
BEGIN:VEVENT
UID:4320450:Event:38743
DTSTAMP:20260425T112905Z
SUMMARY:Franklin Square Holiday Festival featuring Electrical Spectacl
 e: A Holiday Light Show 2014
DESCRIPTION:Â 2014 holiday season, the Franklin Square Holiday Festiva
 l is bigger, brighter, and sparklier with new attractions, a new winte
 r beer garden and expanded food options, a holiday shopping market wit
 h a select group of local artisans, and much more!Â  This season, expe
 rience the magic of the holiday and celebrate traditions new and old a
 t the Franklin Square Holiday Festival. FromÂ November 13 â€“ December
  31, dazzle in the lights of theÂ Electrical Spectacle: A Holiday Ligh
 t Show, shop for handmade, artisanal gifts at the Holiday Market, and 
 warm up with comfort food, local beers, and hot beverages in Benâ€™s B
 ites & Brews. The Square is transformed into a magical place with caro
 ls, dancing snowflakes, holiday music playing on the Parx Liberty Caro
 usel, warming stations in the Philly Mini Golf and a host of new addit
 ions for 2014 culminating in the traditional family-friendly New Yearâ
 €™s Eve celebration. New and expanded entertainment includes Food Truc
 k Fridays, Santa Saturdays, Seasonal Sounds on Sundays, Kidsâ€™ Crafti
 vity Hours, Lightning Bolt Holiday Express train rides around the Squa
 re, a winter beer garden, all in addition to the spectacularÂ Electric
 al SpectacleÂ nighttime light show synchronized to music with the new 
 addition of songs fromÂ The NutcrackerÂ this year. Electrical Spectacl
 e is aÂ freeÂ light show that illuminates the Square nightly with more
  than 50,000 lights as they shimmer, dance, and illuminate the Square 
 to a soundtrack of holiday classics performed by The Philly POPSTM(inc
 luding arrangements by Peter Nero, Music Director Emeritus) in two alt
 ernating shows every 30 minutes (4:30 to 8 pm).\nÂ \n\nFor more inform
 ation visit http://phillytodo.com/events/franklin-square-holiday-festi
 val-featuring-electrical-spectacle-a
DTSTART:20141113T210000Z
DTEND:20150101T010000Z
CATEGORIES:holiday, festival
LOCATION:Franklin Square
WEBSITE:
URL:
CONTACT:
ORGANIZER;CN="Cari Feiler Bender":http://phillytodo.com/profile/CariFe
 ilerBender
ATTACH;FMTTYPE="image/jpeg":http://storage.ning.com/topology/rest/1.0/
 file/get/3054982717?profile=original
ATTENDEE;ROLE=REQ-PARTICIPANT;PARTSTAT=ACCEPTED;RSVP=TRUE;CN="Cari Fei
 ler Bender":http://phillytodo.com/profile/CariFeilerBender
END:VEVENT
END:VCALENDAR
