BEGIN:VCALENDAR
PRODID:NingEventWidget-v1
VERSION:2.0
METHOD:PUBLISH
BEGIN:VEVENT
UID:4320450:Event:59716
DTSTAMP:20260425T112844Z
SUMMARY:Franklin Square Holiday Festival 2019 Featuring Electrical Spe
 ctacle Holiday Light Show presented by PECO
DESCRIPTION:Itâ€™s sparkle time at Franklin Square for the 2019 Frankl
 in Square Holiday Festival, including a winter beer garden with fire p
 its for warmth and charm and Benâ€™s Sweets & Treats where guests can 
 create and taste a variety of treats such as make-your-own sâ€™mores, 
 gourmet hot chocolate, and winter cocktails inside the heated tent wit
 h views of the Square. From November 14 â€“ December 31, dazzle in the
  lights of the Electrical Spectacle Holiday Light Show presented by PE
 CO. In addition to the Parx Liberty Carousel and Philly Mini Golf, add
 itional holiday entertainment includes #FranklinSquareFridays, Santa S
 aturdays, Seasonal Sounds on Sundays, Lightning Bolt Holiday Express t
 rain rides around the Square, and the traditional family-friendly Kidâ
 €™s New Yearâ€™s Eve Countdown and Dance Party. Celebrate many holiday
  traditions with Santa, the Grinch, Santa Paws Pet Night presented by 
 Merck Animal Health, Hanukkah, Kwanzaa, and even the princesses from F
 rozen. Kids are invited to bring their letters to Santa for the specia
 l Santa Mailbox, or deliver them in person to him on Santa Saturdays. 
 The Franklin Square Holiday Festival was named one of Americaâ€™s Top 
 10 Holiday Festivals by Fox News in 2016.\n\nFor more information visi
 t http://phillytodo.com/events/franklin-square-holiday-festival-2019-f
 eaturing-electrical
DTSTART:20191114T210000Z
DTEND:20200101T020000Z
CATEGORIES:festival
LOCATION:Franklin Square
WEBSITE:http://www.historicphiladelphia.org/franklin-square/holidays-i
 n-franklin-square/#attract
URL:http://www.historicphiladelphia.org/franklin-square/holidays-in-fr
 anklin-square/#attract
CONTACT:215-629-4026
ORGANIZER:Historic Philadelphia, Inc.
ATTACH;FMTTYPE="image/jpeg":https://storage.ning.com/topology/rest/1.0
 /file/get/3697316542?profile=original
ATTENDEE;ROLE=REQ-PARTICIPANT;PARTSTAT=ACCEPTED;RSVP=TRUE;CN="Cari Fei
 ler Bender":http://phillytodo.com/profile/CariFeilerBender
END:VEVENT
END:VCALENDAR
