BEGIN:VCALENDAR
PRODID:NingEventWidget-v1
VERSION:2.0
METHOD:PUBLISH
BEGIN:VEVENT
UID:4320450:Event:26205
DTSTAMP:20260425T132529Z
SUMMARY:Franklin Square
DESCRIPTION:Franklin Square: Fun family entertainment and a beautiful 
 park are just steps away from the Liberty Bell, in one of William Penn
 ’s original five squares. \nAward-winning Franklin Square is an out
 door amusement oasis located in the heart of Historic Philadelphia, fe
 aturing Philly Mini Golf, a renovated vintage marble fountain, playgro
 unds, the Philadelphia Park Liberty Carousel, and the acclaimed Square
 Burger, with offerings from STARR Restaurants. \nAfter a day of exper
 iencing the treasures of  Philadelphia’s history, putt through some
  of the city’s most famous icons, take a ride on hometown racehorse 
 heroes Afleet Alex or Smarty Jones aboard the carousel, enjoy a rest n
 ext to the refreshing fountain, and dine on the finest burgers and sha
 kes in town.  All summer long, enjoy stories of our nation’s histor
 y from the Once Upon A Nation storyteller.\nAwarded Best of Philly® t
 wo times by Philadelphia Magazine and one of the Five Coolest Playgrou
 nds in the United States by Yahoo!\n\nActivities Include:\n·Philly Mi
 ni Golf: Putt around the city on this Philadelphia-themed miniature go
 lf course!  $9 adults/$7 children (3-12), FREE for children under 2\n
 ·Philadelphia Park Liberty Carousel: A zebra, a lion, an eagle, horse
 s and more!  Hop on this spectacular all-American style carousel with
  hometown racehorse heroes Afleet Alex and Smarty Jones.  $2.50 per p
 erson (adult or child), FREE for children under 2\n·Playgrounds: Slid
 es, swings, and spinners…bring the kids and enjoy two playgrounds! O
 pen year-round and free.\n·SquareBurger: STARR Restaurants presents a
  delicious menu featuring burgers, hot dogs, french fries, and delecta
 ble frozen treats such as The Cake Shake with Tastykake Butterscotch K
 rimpet© and a Shake-of-the-Month!\n·The Pavilion in Franklin Square 
 – Rent this brand new all-season, climate-controlled building for bi
 rthday parties, family reunions, and corporate or special events.  On
  nice days, open the doors for stunning views of the fountain. \n \n
 All Hours are Weather Permitting:\nOctober 1 – 31: 10 am - 9 pm, Fri
 , Sat, & Sun (open Columbus Day)\nSquareBurger also open 11 am - 2 pm,
  Mon – Thurs\nNovember 23 – 25: 12 - 5 pm (SquareBurger same hours
 )\nDecember 1 - 23: 12 - 5 pm, Saturdays & Sundays (SquareBurger same 
 hours)\nDecember 24: 12 - 4 pm (SquareBurger same hours)\nDecember 26 
 – 30: 12 - 5 pm, daily (SquareBurger same hours)\nDecember 31: 12 - 
 8 pm (SquareBurger same hours)\nSquareBurger opens at 11 am and closes
  one hour before Franklin Square closes, except where noted.\n\n\n\nFo
 r more information visit http://phillytodo.com/events/franklin-square-
 1
DTSTART:20121001T220000Z
DTEND:20130101T000000Z
CATEGORIES:outdoor, amusement
LOCATION:Franklin Square, Philadelphia’s Historic District
WEBSITE:http://www.historicphiladelphia.org
URL:http://www.historicphiladelphia.org
CONTACT:215-629-4026
ORGANIZER:Franklin Square
ATTACH;FMTTYPE="image/jpeg":http://storage.ning.com/topology/rest/1.0/
 file/get/3054957983?profile=original
ATTENDEE;ROLE=REQ-PARTICIPANT;PARTSTAT=ACCEPTED;RSVP=TRUE;CN="Cari Fei
 ler Bender":http://phillytodo.com/profile/CariFeilerBender
END:VEVENT
END:VCALENDAR
