BEGIN:VCALENDAR
PRODID:NingEventWidget-v1
VERSION:2.0
METHOD:PUBLISH
BEGIN:VEVENT
UID:4320450:Event:3083
DTSTAMP:20260425T124903Z
SUMMARY:Fourth Wall Arts Salon
DESCRIPTION:Each month the Fourth Wall Arts Salon brings together a di
 verse array of artists and intellectuals for an interactive evening of
  Fine Art, Music, Dance, Theater, and Topical Lectures that inspire an
 d engage the mind.\n\nTickets Available here.\n\n\n\n\nFor more inform
 ation visit http://phillytodo.com/events/fourth-wall-arts-salon
DTSTART:20101128T000000Z
DTEND:20101128T030000Z
CATEGORIES:arts, performance
LOCATION:The Performance Garage
WEBSITE:http://maps.google.com/maps?q=1515+brandywine&oe=utf-8&rls=org
 .mozilla:en-US:official&client=firefox-a&um=1&ie=UTF-8&sa=N&hl=en&tab=
 wl
URL:http://maps.google.com/maps?q=1515+brandywine&oe=utf-8&rls=org.moz
 illa:en-US:official&client=firefox-a&um=1&ie=UTF-8&sa=N&hl=en&tab=wl
CONTACT:
ORGANIZER:Fourth Wall Arts Salon
ATTACH;FMTTYPE="image/jpeg":http://storage.ning.com/topology/rest/1.0/
 file/get/3054950900?profile=original
ATTENDEE;ROLE=REQ-PARTICIPANT;PARTSTAT=ACCEPTED;RSVP=TRUE;CN=bridget:h
 ttp://phillytodo.com/profile/bridget
END:VEVENT
END:VCALENDAR
