BEGIN:VCALENDAR
PRODID:NingEventWidget-v1
VERSION:2.0
METHOD:PUBLISH
BEGIN:VEVENT
UID:4320450:Event:39647
DTSTAMP:20260425T112537Z
SUMMARY:Four Course + Cocktail Sweetheart Menu
DESCRIPTION:Celebrate Valentine’s Day with your sweetheart at Bridge
 t Foy’s (200 South Street) with their special sweetheart menu this V
 alentine’s weekend from Friday, February 13, 2015 through Sunday, Fe
 bruary 15, 2015. Enjoy a romantic four course dinner plus choice of co
 cktail for only $35.00 per person. Raise a glass with Love Potion, Cha
 mpagne and Yard’s Love Stoudt. Menu highlights include oysters rocke
 feller, goat cheese crostini, smoked cauliflower soup, lobster fusilli
 , and more. Sweet selections include red velvet donuts and caramel app
 le cobbler. Must be 21 and older to drink. For more information, call 
 (215) 922-1813, follow @bridgetfoys or visit http://www.bridgetfoys.co
 m. Reservations are available by phone or via OpenTable.\n\n\nFor more
  information visit http://phillytodo.com/events/four-course-cocktail-s
 weetheart-menu
DTSTART:20150213T220000Z
DTEND:20150216T030000Z
CATEGORIES:"valentine's", day, dinner
LOCATION:Bridget Foy's
WEBSITE:http://www.bridgetfoys.com
URL:http://www.bridgetfoys.com
CONTACT:(215) 922-1813
ORGANIZER;CN="Aversa PR & Events":http://phillytodo.com/profile/KoryAv
 ersa277
ATTACH;FMTTYPE="image/jpeg":http://storage.ning.com/topology/rest/1.0/
 file/get/3054983844?profile=original
ATTENDEE;ROLE=REQ-PARTICIPANT;PARTSTAT=ACCEPTED;RSVP=TRUE;CN="Aversa P
 R & Events":http://phillytodo.com/profile/KoryAversa277
END:VEVENT
END:VCALENDAR
