BEGIN:VCALENDAR
PRODID:NingEventWidget-v1
VERSION:2.0
METHOD:PUBLISH
BEGIN:VEVENT
UID:4320450:Event:37411
DTSTAMP:20260425T144756Z
SUMMARY:Founders Weekend, Woodford’s 258th Anniversary. Buy One Get 
 One Free Admission
DESCRIPTION:Woodford Mansion, a National Historic Landmark located in 
 East Fairmount Park, tells the story of the 18th- and 19th-century res
 ident who called the Colonial estate home.  Celebrate the 258th anniv
 ersary of Woodford’s founding with a visit to this magnificent treas
 ure filled with significant history, antiques, and architecture.\n \n
 William Coleman built his one and one-half story Georgian-style summer
  home, servants’ house and stable between 1756 and 1758.  The 12-ac
 re plot was attractive to Coleman due to its close proximity to the Sc
 huylkill River and its relatively comfortable commute from Philadelphi
 a.  The summer estate may have earned its name from the surrounding w
 oods and nearby ford in the river, hence Woodford.  The Mansion’s o
 riginal design, with its symmetrical layout, was meant to create a Pal
 ladian look, a style that came into fashion during the Enlightenment i
 n both Europe and North America.  The small size of the property indi
 cates that Coleman had no intention to farm, but rather to use the Man
 sion as his “gentleman’s retirement” or summer home.  \n \nGu
 ided tours only. Admission for a guided tour is $5.00 for adults, $3.0
 0 for senior citizens, and $2 for children (ages 6-12).\n \n\nFor mor
 e information visit http://phillytodo.com/events/founders-weekend-wood
 ford-s-258th-anniversary-buy-one-get-one
DTSTART:20140719T140000Z
DTEND:20140720T200000Z
CATEGORIES:celebration, event
LOCATION:Woodford Mansion
WEBSITE:http://www.woodfordmansion.org
URL:http://www.woodfordmansion.org
CONTACT:215-229-6115
ORGANIZER;CN="Bryan Chan":http://phillytodo.com/profile/BryanChan
ATTACH;FMTTYPE="image/jpeg":
ATTENDEE;ROLE=REQ-PARTICIPANT;PARTSTAT=ACCEPTED;RSVP=TRUE;CN="Bryan Ch
 an":http://phillytodo.com/profile/BryanChan
END:VEVENT
END:VCALENDAR
