BEGIN:VCALENDAR
PRODID:NingEventWidget-v1
VERSION:2.0
METHOD:PUBLISH
BEGIN:VEVENT
UID:4320450:Event:57103
DTSTAMP:20260425T125004Z
SUMMARY:Founders Philly Freeze-Out
DESCRIPTION:In partnership with Founders Brewing Co, Manayunk will tur
 n into a winter wonderland during this day-long event of ice sculpture
 s and ice carving demonstrations, an ice beer garden, a chowder and be
 er pairing crawl, a hot cocoa bar, live music, exclusive shopping on M
 ain Street, and more! This event is family-friendly, but guests must b
 e 21+ to enter the ice beer garden and/or participate in the Chowder C
 rawl.\n\nFor more information visit http://phillytodo.com/events/found
 ers-philly-freeze-out
DTSTART:20190126T160000Z
DTEND:20190126T210000Z
CATEGORIES:community, festival
LOCATION:Manayunk
WEBSITE:http://manayunk.com/events/founders-philly-freeze-out.html
URL:http://manayunk.com/events/founders-philly-freeze-out.html
CONTACT:2154829565
ORGANIZER;CN="Manayunk Development Corporation":http://phillytodo.com/
 profile/ManayunkDevelopmentCorporation
ATTACH;FMTTYPE="image/jpeg":https://storage.ning.com/topology/rest/1.0
 /file/get/756879754?profile=original
ATTENDEE;ROLE=REQ-PARTICIPANT;PARTSTAT=ACCEPTED;RSVP=TRUE;CN="Manayunk
  Development Corporation":http://phillytodo.com/profile/ManayunkDevelo
 pmentCorporation
END:VEVENT
END:VCALENDAR
