BEGIN:VCALENDAR
PRODID:NingEventWidget-v1
VERSION:2.0
METHOD:PUBLISH
BEGIN:VEVENT
UID:4320450:Event:170324
DTSTAMP:20260425T160746Z
SUMMARY:Founders Philly Freeze-Out
DESCRIPTION:Cure your cabin fever with the Founders Philly Freeze-Out 
 - socially-distanced style! Manayunk.com has teamed up with Founders 
 Brewing Company to turn Manayunk into a winter wonderland. Mask up and
  stroll Main Street to catch live ice carving demonstrations, ice scul
 ptures, Founders specials in restaurants and bars, giveaways, and more
 ! This event is family-friendly.\n\nFor more information visit http://
 phillytodo.com/events/founders-philly-freeze-out-3
DTSTART:20220205T160000Z
DTEND:20220205T210000Z
CATEGORIES:free
LOCATION:Manayunk
WEBSITE:http://manayunk.com/events/founders-philly-freeze-out.html
URL:http://manayunk.com/events/founders-philly-freeze-out.html
CONTACT:215-482-9565
ORGANIZER;CN="Manayunk Development Corporation":http://phillytodo.com/
 profile/ManayunkDevelopmentCorporation
ATTACH;FMTTYPE="image/jpeg":https://storage.ning.com/topology/rest/1.0
 /file/get/10051100890?profile=original
ATTENDEE;ROLE=REQ-PARTICIPANT;PARTSTAT=ACCEPTED;RSVP=TRUE;CN="Manayunk
  Development Corporation":http://phillytodo.com/profile/ManayunkDevelo
 pmentCorporation
END:VEVENT
END:VCALENDAR
