BEGIN:VCALENDAR
PRODID:NingEventWidget-v1
VERSION:2.0
METHOD:PUBLISH
BEGIN:VEVENT
UID:4320450:Event:27041
DTSTAMP:20260425T133207Z
SUMMARY:FOUNDATIONS 4 week Yoga Series | Fridays 10/5, 12, 19 & 11/ 2
DESCRIPTION:Go deeper!Â  This series is designed specifically for the 
 beginner or anyone wanting a thorough step-by-step review of the basic
 s! You will build a strong foundation in the fundamentals of yoga, bre
 athing, and alignment in versions of elemental poses.Â  Upon completio
 n you will have enough knowledge to feel comfortable walking into drop
 -in basic yoga classes.Â  + 1 free DY 101 class to keep your practice 
 moving!\nFridays 10/5, 12, 19 & 11/ 2\nPhotography Johanna AustinÂ  |Â
   AustinArt.org\n\nFor more information visit http://phillytodo.com/ev
 ents/foundations-4-week-yoga-series-fridays-10-5-12-19-11-2
DTSTART:20121005T223000Z
DTEND:20121006T001500Z
CATEGORIES:friday, evening, series, beginner, yoga, movement, introduc
 tion, progressing, physical, athletic, training, theraputic, relaxing,
  calming, class
LOCATION:Dhyana Yoga Old City
WEBSITE:https://maps.google.com/maps?q=68+North+2nd+Street,+Philadelph
 ia,+PA&hl=en&ll=39.951618,-75.143378&spn=0.002126,0.003887&sll=39.9515
 91,-75.143346&sspn=0.008504,0.015546&oq=68+North+2nd+Street,+philadelp
 hia&hnear=68+N+2nd+St,+Philadelphia,+Pennsylvania+19106&t=m&z=19&layer
 =c&cbll=39.95168,-75.143366&panoid=DHvC0jTmo47DzEtGJjS6ng&cbp=12,302.0
 5,,3,5.97
URL:https://maps.google.com/maps?q=68+North+2nd+Street,+Philadelphia,+
 PA&hl=en&ll=39.951618,-75.143378&spn=0.002126,0.003887&sll=39.951591,-
 75.143346&sspn=0.008504,0.015546&oq=68+North+2nd+Street,+philadelphia&
 hnear=68+N+2nd+St,+Philadelphia,+Pennsylvania+19106&t=m&z=19&layer=c&c
 bll=39.95168,-75.143366&panoid=DHvC0jTmo47DzEtGJjS6ng&cbp=12,302.05,,3
 ,5.97
CONTACT:267.935.YOGA (9642)
ORGANIZER:Gina Stickney, teacher
ATTACH;FMTTYPE="image/jpeg":http://storage.ning.com/topology/rest/1.0/
 file/get/3054959778?profile=original
ATTENDEE;ROLE=REQ-PARTICIPANT;PARTSTAT=ACCEPTED;RSVP=TRUE;CN="Gina Sti
 ckney":http://phillytodo.com/profile/GinaStickney
END:VEVENT
END:VCALENDAR
