BEGIN:VCALENDAR
PRODID:NingEventWidget-v1
VERSION:2.0
METHOD:PUBLISH
BEGIN:VEVENT
UID:4320450:Event:28310
DTSTAMP:20260425T143845Z
SUMMARY:Forever Young+ health + Wellness Event with Dr. Andrew Weil
DESCRIPTION:What is Forever Young+?\nThe Forever Young Health and Well
 ness event will be held on Sunday October 21st at the Sheraton Philade
 lphia Downtown at 17th and Vine Streets. The event has a full day of p
 rograms, including expert speakers, healthy cooking demonstrations, fi
 tness classes, and exhibitors, to promote healthy living and healthy a
 ging in adults ages 25 and up.                \nWhat ca
 n we expect if we attend?           \n\nExpert Speakers in 
 the Lecture Hall and on the Healthy Minds and Healthy Bodies Stages: I
 ncluding Dr. Andrew Weil - a world-renowned leader and pioneer in the 
 field of integrative medicine, and physicians from main sponsor Einste
 in Hospital, plus physicians, health practitioners, therapists, author
 s, educators, chefs, and fitness instructors, and more, all focused on
  different aspects of achieving mind-body balance and better health, i
 ncluding stress reduction; mindfulness; better sleep, sex, and golf; h
 ealthy eating; disease and fall prevention; cardio health; and much mo
 re!\n\n\nFor more information visit http://phillytodo.com/events/forev
 er-young-health-wellness-event-with-dr-andrew-weil
DTSTART:20121021T040000Z
DTEND:20121022T035900Z
CATEGORIES:health, "+", wellness, event, -, charity
LOCATION:Philadelphia Sheraton Downtown, 17th and Vine Streets
WEBSITE:http://www.starwoodhotels.com/sheraton/property/area/map.html?
 propertyID=1776
URL:http://www.starwoodhotels.com/sheraton/property/area/map.html?prop
 ertyID=1776
CONTACT:(215) 698-7300
ORGANIZER:Klein JCC
ATTACH;FMTTYPE="image/jpeg":http://storage.ning.com/topology/rest/1.0/
 file/get/3054959729?profile=original
ATTENDEE;ROLE=REQ-PARTICIPANT;PARTSTAT=ACCEPTED;RSVP=TRUE;CN="jamie Jo
 ffe":http://phillytodo.com/profile/jamieJoffe
END:VEVENT
END:VCALENDAR
