BEGIN:VCALENDAR
PRODID:NingEventWidget-v1
VERSION:2.0
METHOD:PUBLISH
BEGIN:VEVENT
UID:4320450:Event:47105
DTSTAMP:20260425T143844Z
SUMMARY:Follow the Yellow Brick Road GayBINGO!
DESCRIPTION:\"We're off to see the Divas, the wonderful Divas of Oz.\"
  GayBINGO is the fabulous, irreverent, campy, wildly popular monthly e
 vent that has been entertaining Philadelphia audiences for 20 years!\n
  \nCelebrating a different theme each month, hundreds of people pack 
 the hall in Center City's Gershman Y for a night of good old-fashioned
  Bingo! with a decidedly different twist! GayBINGO is hosted by the in
 famous Bingo Verifying Divas (BVDs!) - a wild bunch of drag queens who
  entertain the crowd with their wacky humor and always outrageous cost
 umes.\n \nGayBINGO promises to be an evening of unbridled fun, comple
 te with ridiculous musical numbers, hilarious drag queen antics, chanc
 es to win fabulous prizes, and much, much more! Reserved seating ticke
 ts on the Bingo floor are $30. General admission tickets in the balcon
 y are $25. Tickets for GayBINGO are on sale at http://www.aidsfundphi
 lly.org/gaybingo.\n \nGayBINGO was named Best of Philly (Gay Event), 
 won PGN's Lambda Award for Best Fundraiser, and was the subject of a p
 opular WHYY documentary.  GayBINGO has also been featured in the LA T
 imes, Washington Post, and USA Today.  GayBINGO events have raised ov
 er $3.5 million to date.\n \nTweet this: Come out for 21st Season of 
 @GayBINGOPhilly Have fun & raise $ for HIV/AIDS, tickets: http://bit.l
 y/1NNcQMt\n\nFor more information visit http://phillytodo.com/events/f
 ollow-the-yellow-brick-road-gaybingo
DTSTART:20170108T000000Z
DTEND:20170108T030000Z
CATEGORIES:lgbt, nonprofit, fundraiser, bingo, gaybingo, aids, fund, d
 rag, queen
LOCATION:The Gershman Y
WEBSITE:http://www.gershmany.org/
URL:http://www.gershmany.org/
CONTACT:215-731-9255
ORGANIZER:Philadelphia AIDS Fund
ATTACH;FMTTYPE="image/jpeg":http://storage.ning.com/topology/rest/1.0/
 file/get/3054997198?profile=original
ATTENDEE;ROLE=REQ-PARTICIPANT;PARTSTAT=ACCEPTED;RSVP=TRUE;CN="Cari Fei
 ler Bender":http://phillytodo.com/profile/CariFeilerBender
END:VEVENT
END:VCALENDAR
