BEGIN:VCALENDAR
PRODID:NingEventWidget-v1
VERSION:2.0
METHOD:PUBLISH
BEGIN:VEVENT
UID:4320450:Event:31778
DTSTAMP:20260425T125757Z
SUMMARY:Flying Trapeze Show \"Daringly High\"
DESCRIPTION:Fly School Circus Arts will be ending their Philadelphia I
 nternational Festival of the Arts (PIFA) project, \"Daringly High,\" o
 n a high note with flying trapeze performances on Thursday, April 25th
  and Friday, April 26th at 8pm. Tickets are only $10 at the door (cash
  only). These first-time Center City performances will showcase both t
 he incredible talent and skills of the Fly School staff and the hard-e
 arned accomplishments of their students. This will be the last chance 
 to see the trapeze and expect to fill the best spots in the house quic
 kly; arriving early is recommended! Classes are still available at 9am
 , 11:30am, 4:30pm and 7pm everyday through April 27. Call 215-546-PIFA
  or visit www.pifa.org for tickets. For more information on Fly School
  Circus Arts, visit www.flyschoolcircusarts.com and follow @flyschoolc
 ircus on Twitter. This year’s show, “Daringly High,” is based on
  the theme, a moment in time. On October 30th, 1965, Australian model 
 Jean Shrimpton wore a “daringly high” mini dress which, at that ti
 me, was not socially accepted. She inspired individuality, empowerment
 , and youthful domination for women’s fashion. “Daringly High” i
 s a celebration of the empowerment, confidence, and freedom found in d
 oing the unexpected, flying in the face of limitations and trying some
 thing you never thought possible.\n\nFor more information visit http:/
 /phillytodo.com/events/flying-trapeze-show-daringly-high
DTSTART:20130426T000000Z
DTEND:20130427T010000Z
CATEGORIES:performances, circus, arts
LOCATION:University of the Arts-empty parking lot
WEBSITE:
URL:
CONTACT:215-840-9216
ORGANIZER;CN="Aversa PR & Events":http://phillytodo.com/profile/KoryAv
 ersa277
ATTACH;FMTTYPE="image/jpeg":http://storage.ning.com/topology/rest/1.0/
 file/get/3054964965?profile=original
ATTENDEE;ROLE=REQ-PARTICIPANT;PARTSTAT=ACCEPTED;RSVP=TRUE;CN="Aversa P
 R & Events":http://phillytodo.com/profile/KoryAversa277
END:VEVENT
END:VCALENDAR
