BEGIN:VCALENDAR
PRODID:NingEventWidget-v1
VERSION:2.0
METHOD:PUBLISH
BEGIN:VEVENT
UID:4320450:Event:34612
DTSTAMP:20260425T163007Z
SUMMARY:Flying Trapeze Grand Opening Beef and Beer Party
DESCRIPTION:Get ready to fly into fall as Fly School Circus Arts prese
 nts the grand opening of their new home at 5th and Cecil B Moore. Join
  us for a “Beef and Beer” open house with free food and drink from
  Nick’s Roast Beef in Old City, Ms Goody Cupcake on East Passyunk an
 d The Bottle Shop. Beer samples ages 21 and up only. Family fun includ
 es pumpkin painting and tricks/treats. For bookings and information, v
 isit www.flyschoolcircusarts.com, follow @flyschoolcircus on Twitter a
 nd like Fly School on Facebook.\n \n\nFor more information visit http
 ://phillytodo.com/events/flying-trapeze-grand-opening-beef-and-beer-pa
 rty
DTSTART:20131005T190000Z
DTEND:20131005T210000Z
CATEGORIES:grand, opening, "beef and beer"
LOCATION:Fly School Circus Arts
WEBSITE:http://flyschoolcircusarts.com
URL:http://flyschoolcircusarts.com
CONTACT:215-840-9216
ORGANIZER;CN="Aversa PR & Events":http://phillytodo.com/profile/KoryAv
 ersa277
ATTACH;FMTTYPE="image/jpeg":http://storage.ning.com/topology/rest/1.0/
 file/get/3054967450?profile=original
ATTENDEE;ROLE=REQ-PARTICIPANT;PARTSTAT=ACCEPTED;RSVP=TRUE;CN="Aversa P
 R & Events":http://phillytodo.com/profile/KoryAversa277
END:VEVENT
END:VCALENDAR
