BEGIN:VCALENDAR
PRODID:NingEventWidget-v1
VERSION:2.0
METHOD:PUBLISH
BEGIN:VEVENT
UID:4320450:Event:34880
DTSTAMP:20260425T142546Z
SUMMARY:Flying Fish Beer Dinner
DESCRIPTION:Treat yourself to a four-course dinner with special beer p
 airings at the Flying Fish Beer dinner presented by the Continental At
 lantic City on Friday, November 8thÂ at 7 p.m. For just $65 (tax and g
 ratuity included), you will be treated to an expertly paired dining ex
 perience with Flying Fishâ€™s amazing beer selection and classic fall 
 favorites from the Continental repertoire! The Executive Chef and a Fl
 ying Fish guru will be on site to guide you through the experience, di
 scuss the brewing process, and how to make pairings at home easy. Youâ
 €™ll be leaving with a full stomach and a complimentary pint glass!\n\
 nÂ \n\nFor more information visit http://phillytodo.com/events/flying-
 fish-beer-dinner
DTSTART:20131109T000000Z
DTEND:20131109T020000Z
CATEGORIES:special, event
LOCATION:Continental Atlantic City
WEBSITE:
URL:
CONTACT:
ORGANIZER;CN=CashmanAssoc:http://phillytodo.com/profile/CashmanAssoc
ATTACH;FMTTYPE="image/jpeg":http://storage.ning.com/topology/rest/1.0/
 file/get/3054970213?profile=original
ATTENDEE;ROLE=REQ-PARTICIPANT;PARTSTAT=ACCEPTED;RSVP=TRUE;CN=CashmanAs
 soc:http://phillytodo.com/profile/CashmanAssoc
END:VEVENT
END:VCALENDAR
