BEGIN:VCALENDAR
PRODID:NingEventWidget-v1
VERSION:2.0
METHOD:PUBLISH
BEGIN:VEVENT
UID:4320450:Event:49011
DTSTAMP:20260425T124849Z
SUMMARY:Flyers Day
DESCRIPTION:It's the 50th anniversary of the Philadelphia Flyers, and 
 we're celebrating with an afternoon of festivities at Winterfest!\n \
 n\nMeet and skate with Flyers Alumni\nShoot pucks to win Flyers prizes
  and giveaways\nExperience Flyers 50th Anniversary attractions\nAND MO
 RE TO BE ANNOUNCED!  \n\n\nFor more information visit http://phillyto
 do.com/events/flyers-day
DTSTART:20170212T170000Z
DTEND:20170212T220000Z
CATEGORIES:family, fun
LOCATION:Blue Cross RiverRink WinterFest
WEBSITE:http://www.delawareriverwaterfront.com/events/flyers-day-at-bl
 ue-cross-riverrink
URL:http://www.delawareriverwaterfront.com/events/flyers-day-at-blue-c
 ross-riverrink
CONTACT:2159236533
ORGANIZER;CN="Delaware River Waterfront Corp.":http://phillytodo.com/p
 rofile/DelawareRiverWaterfrontCorp
ATTACH;FMTTYPE="image/jpeg":http://storage.ning.com/topology/rest/1.0/
 file/get/3054998980?profile=original
ATTENDEE;ROLE=REQ-PARTICIPANT;PARTSTAT=ACCEPTED;RSVP=TRUE;CN="Delaware
  River Waterfront Corp.":http://phillytodo.com/profile/DelawareRiverWa
 terfrontCorp
END:VEVENT
END:VCALENDAR
