BEGIN:VCALENDAR
PRODID:NingEventWidget-v1
VERSION:2.0
METHOD:PUBLISH
BEGIN:VEVENT
UID:4320450:Event:894
DTSTAMP:20260425T173709Z
SUMMARY:Flower Show Food Tour
DESCRIPTION:Don’t miss City Food Tours' sumptuous food tour inspired
  by the beauty of the 2010 Philadelphia International Flower Show, \"P
 assport to the World\". We’ll “travel the globe” sampling the wo
 rld’s finest treats, including cheeses from across Europe, chocolate
 s from Central and South America, and exotic teas from Asia and Africa
 .\n\nNo need to bring your passport! This 3-hour adventure visits thre
 e specialty food shops in Center City Philadelphia and treats guests t
 o hand-crafted, artisanal treats blended with botanical delights, as w
 ell as a planting demonstration of an indoor, herbal tea garden bursti
 ng with international flavors.\n\nThis very special tour is only avail
 able for a limited time—only while the Flower Show is in town.\n\nSo
 me decadent examples of what we'll be sampling include:\n- Exotic Teas
  blended with jasmine, violets, and chrysanthemums\n- Lavender-dusted 
 goat cheese and blue cheese with wildflower honey\n- Orange blossom an
 d rose-infused chocolates\n\nIn addition to trying these delicacies, y
 ou'll find out how the foods are made, how edible flowers can be incor
 porated, and learn what to look for in truly great food.\n\nTours are 
 perfect for individuals, couples, families and out-of-town guests, and
  people of all ages and abilities.\n\nGreat for birthdays, dates, anni
 versaries, and outings.\n\n\nWhat Is Not Included?\nYou must provide y
 our own transportation to and from the tour.\nGratuities are not inclu
 ded in the ticket price, but are greatly appreciated.\n\nMeeting Locat
 ion:\nChestnut Street near Rittenhouse Square (Philadelphia, PA)\n(Exa
 ct meeting location details will be provided immediately upon purchase
  of tickets.)\n\n**Wheel chair accessible.\n**We can accommodate any d
 ietary restrictions - please request upon ticket purchase:\nhttp://www
 .zerve.com/PhillyFoods/Flower\n\nFor more information visit http://phi
 llytodo.com/events/flower-show-food-tour
DTSTART:20100301T200000Z
DTEND:20100306T230000Z
CATEGORIES:food, tour, flower, show
LOCATION:Rittenhouse Square Area
WEBSITE:http://www.zerve.com/PhillyFoods/Flower
URL:http://www.zerve.com/PhillyFoods/Flower
CONTACT:215.360.1996
ORGANIZER;CN="Robert Weinberg":http://phillytodo.com/profile/RobertWei
 nberg
ATTACH;FMTTYPE="image/jpeg":http://storage.ning.com/topology/rest/1.0/
 file/get/3054943446?profile=original
ATTENDEE;ROLE=REQ-PARTICIPANT;PARTSTAT=ACCEPTED;RSVP=TRUE;CN="Robert W
 einberg":http://phillytodo.com/profile/RobertWeinberg
END:VEVENT
END:VCALENDAR
