BEGIN:VCALENDAR
PRODID:NingEventWidget-v1
VERSION:2.0
METHOD:PUBLISH
BEGIN:VEVENT
UID:4320450:Event:49710
DTSTAMP:20260425T160754Z
SUMMARY:Flower Power Happy Hours
DESCRIPTION:Chestnut Hill celebrates 20 years as Philadelphia’s Gard
 en District with flower-themed happy hour events throughout the urban 
 village. On Thursday, April 20 and Thursday, April 27, visitors can ta
 ke advantage of extended store hours along Germantown Avenue while enj
 oying cocktails and dishes inspired by the blooming landscapes Chestnu
 t Hill is known for.\n\nFor more information visit http://phillytodo.c
 om/events/flower-power-happy-hours
DTSTART:20170420T220000Z
DTEND:20170421T000000Z
CATEGORIES:social, outing
LOCATION:Chestnut Hill
WEBSITE:http://Chestnuthillpa.com
URL:http://Chestnuthillpa.com
CONTACT:
ORGANIZER;CN="Bryan Chan":http://phillytodo.com/profile/BryanChan
ATTACH;FMTTYPE="image/jpeg":http://storage.ning.com/topology/rest/1.0/
 file/get/3055004702?profile=original
ATTENDEE;ROLE=REQ-PARTICIPANT;PARTSTAT=ACCEPTED;RSVP=TRUE;CN="Bryan Ch
 an":http://phillytodo.com/profile/BryanChan
END:VEVENT
END:VCALENDAR
