BEGIN:VCALENDAR
PRODID:NingEventWidget-v1
VERSION:2.0
METHOD:PUBLISH
BEGIN:VEVENT
UID:4320450:Event:47145
DTSTAMP:20260425T124906Z
SUMMARY:Flower Arranging with CHICORY
DESCRIPTION:Join us for this special flower arranging and floral desig
 n workshop with CHICORY. Weâ€™ll create lush, autumnal arrangements wi
 th the best and last of the season, all grown in CHICORYâ€™s gardens r
 ight here. Cooler evenings and dropping temperatures bring out deep an
 d saturated colors in our favorite flowers. Weâ€™ll discuss the techni
 ques and secrets of building floral arrangements and show you how to c
 reate loose, organic, and gestural floral designs. After demonstrating
  how we choose flowers and color palettes for arrangements, weâ€™ll se
 t you loose to style wildly. A rare opportunity to learn from CHICORYâ
 €™s Andrew Olson and Erica Maust, this workshop offers a window into t
 he aesthetics and creative process of floral arrangement.\nCome at 5:3
 0 for mingling and drinks. The workshop starts at 6 pm.\n\nFor more in
 formation visit http://phillytodo.com/events/flower-arranging-with-chi
 cory
DTSTART:20160913T213000Z
DTEND:20160914T003000Z
CATEGORIES:workshop
LOCATION:The Schuylkill Center
WEBSITE:http://www.schuylkillcenter.org/blog/event/flower-arranging-wi
 th-chicory-florals/
URL:http://www.schuylkillcenter.org/blog/event/flower-arranging-with-c
 hicory-florals/
CONTACT:215-482-7300
ORGANIZER;CN="The Schuylkill Center":http://phillytodo.com/profile/Ann
 aLehrMueser
ATTACH;FMTTYPE="image/jpeg":http://storage.ning.com/topology/rest/1.0/
 file/get/3054997720?profile=original
ATTENDEE;ROLE=REQ-PARTICIPANT;PARTSTAT=ACCEPTED;RSVP=TRUE;CN="The Schu
 ylkill Center":http://phillytodo.com/profile/AnnaLehrMueser
END:VEVENT
END:VCALENDAR
