BEGIN:VCALENDAR
PRODID:NingEventWidget-v1
VERSION:2.0
METHOD:PUBLISH
BEGIN:VEVENT
UID:4320450:Event:49539
DTSTAMP:20260425T125817Z
SUMMARY:Flower Arranging with CHICORY Floral
DESCRIPTION:Join us for this special floral design workshop with CHIC
 ORY Floral. We’ll create lush spring arrangements with the best and 
 first flowers of the season, all grown in CHICORY’s gardens in Phil
 adelphia. You’ll learn about some of our favorite flowers to grow in
  spring, and have the opportunity to ask questions about what you can 
 plant in your gardens for early color after the winter. We’ll discus
 s the techniques and secrets of building floral arrangements and show 
 you how to create loose, organic, and gestural floral designs. After d
 emonstrating how we choose flowers and color palettes for arrangements
 , we’ll set you loose to style wildly.\n\nFor more information visit
  http://phillytodo.com/events/flower-arranging-with-chicory-floral
DTSTART:20170502T213000Z
DTEND:20170503T003000Z
CATEGORIES:floral, design
LOCATION:Schuylkill Center
WEBSITE:http://www.schuylkillcenter.org/blog/event/flower-arranging-ch
 icory-floral/
URL:http://www.schuylkillcenter.org/blog/event/flower-arranging-chicor
 y-floral/
CONTACT:215-482-7300
ORGANIZER;CN="The Schuylkill Center":http://phillytodo.com/profile/Ann
 aLehrMueser
ATTACH;FMTTYPE="image/jpeg":http://storage.ning.com/topology/rest/1.0/
 file/get/3055003590?profile=original
ATTENDEE;ROLE=REQ-PARTICIPANT;PARTSTAT=ACCEPTED;RSVP=TRUE;CN="The Schu
 ylkill Center":http://phillytodo.com/profile/AnnaLehrMueser
END:VEVENT
END:VCALENDAR
