BEGIN:VCALENDAR
PRODID:NingEventWidget-v1
VERSION:2.0
METHOD:PUBLISH
BEGIN:VEVENT
UID:4320450:Event:57519
DTSTAMP:20260425T142734Z
SUMMARY:Flavors of the Ave 2019
DESCRIPTION:East Passyunk Avenue Business Improvement District present
 s Flavors on the Avenue street festival on Sunday, April 28, 2019, fro
 m 11:00am to 5:00pm. The city’s first big restaurant festival of the
  spring will feature five blocks of street food, seasonal sips, craft 
 beer, live music, handmade art, sidewalk sales and free family fun –
  from Broad to Dickinson streets.  More than two dozen award-winning 
 restaurants, cafes and bars will bring their signature cuisine outside
  under the blue skies. Craft beer, signature cocktails and wine will p
 our from select restaurants out on the street. East Passyunk Flavors o
 n the Avenue is free to attend and open to all ages. Food will be spec
 ially priced between $3.00 and $6.00 (average) and be pay-as-you-go fr
 om individual restaurants. For more information and directions, visit 
 www.visiteastpassyunk.com.\n\nFor more information visit http://philly
 todo.com/events/flavors-of-the-ave-2019
DTSTART:20190428T150000Z
DTEND:20190428T210000Z
CATEGORIES:festival
LOCATION:Passyunk Ave, Broad to Dickison Streets
WEBSITE:http://www.visiteastpassyunk.com/events/flavors-on-the-avenue-
 2019.php
URL:http://www.visiteastpassyunk.com/events/flavors-on-the-avenue-2019
 .php
CONTACT:2153361455
ORGANIZER:East Passyunk Avenue Business Development
ATTACH;FMTTYPE="image/jpeg":https://storage.ning.com/topology/rest/1.0
 /file/get/1326781504?profile=original
ATTENDEE;ROLE=REQ-PARTICIPANT;PARTSTAT=ACCEPTED;RSVP=TRUE;CN="Aversa P
 R & Events":http://phillytodo.com/profile/KoryAversa277
END:VEVENT
END:VCALENDAR
