BEGIN:VCALENDAR
PRODID:NingEventWidget-v1
VERSION:2.0
METHOD:PUBLISH
BEGIN:VEVENT
UID:4320450:Event:42412
DTSTAMP:20260425T144303Z
SUMMARY:#FlashBootCamp
DESCRIPTION:Come into the Market & Shops at Comcast Center every Satur
 day between October 3 and November 21, 2015 at 10am for Flash Boot Cam
 p! Work with expert trainers at the Comcast Fitness Center to sculpt s
 ome muscle and whip your body into shape in a flash through cross-trai
 ning sessions! Pay $10 per class and receive a $10 voucher for the Mar
 ket & Shops at Comcast Center to spend on rehydrating liquids and heal
 thy or indulgent treats!    Get FREE access to your next class by sn
 apping a selfie or checking in on Facebook, Twitter or Instagram using
  the hashtag #FlashBootCamp!   Don't forget to bring your own mat and
  towel!\n\nFor more information visit http://phillytodo.com/events/fla
 shbootcamp
DTSTART:20151003T140000Z
DTEND:20151003T150000Z
CATEGORIES:fitness, class
LOCATION:Market & Shops at Comcast Center
WEBSITE:
URL:
CONTACT:
ORGANIZER:Cashman & Associates
ATTACH;FMTTYPE="image/jpeg":http://storage.ning.com/topology/rest/1.0/
 file/get/3054990209?profile=original
ATTENDEE;ROLE=REQ-PARTICIPANT;PARTSTAT=ACCEPTED;RSVP=TRUE;CN=CashmanAs
 soc:http://phillytodo.com/profile/CashmanAssoc
END:VEVENT
END:VCALENDAR
