BEGIN:VCALENDAR
PRODID:NingEventWidget-v1
VERSION:2.0
METHOD:PUBLISH
BEGIN:VEVENT
UID:4320450:Event:59507
DTSTAMP:20260425T161738Z
SUMMARY:FIVE
DESCRIPTION:Interdisciplinary artist Rashaad Newsome’s multipart pro
 ject, Black Magic, is currently on view at the Philadelphia Photo Art
 s Center. Black Magic is a holistic reflection on agency, Blackness,
  and the futurity of intersectional identities and oppression.\nFIVE 
 is a multimedia performance that abstracts the art of Vogue Femme, a d
 ance form that originated in the African-American and Latino LGBTQ com
 munities of 1970s Harlem. In the performance, five dancers represent t
 he five elements of Vogue Femme—hands, catwalk, floor performance, s
 pin dips, and duck-walking. As each dancer takes the floor, musicians 
 improvise an interactive soundtrack. Newsome maps the movement pattern
 s of dancers during the live performances and transforms the collected
  data into digital neoactionist drawings in real time on a screen abov
 e the performance.\n\nFor more information visit http://phillytodo.com
 /events/five
DTSTART:20191124T010000Z
DTEND:20191124T040000Z
CATEGORIES:multimedia, performance
LOCATION:Icebox Project Space
WEBSITE:https://www.philaphotoarts.org/event/rashaad-newsome-five/
URL:https://www.philaphotoarts.org/event/rashaad-newsome-five/
CONTACT:215-232-5678
ORGANIZER;CN="Bryan Chan":http://phillytodo.com/profile/BryanChan
ATTACH;FMTTYPE="image/jpeg":https://storage.ning.com/topology/rest/1.0
 /file/get/3686068382?profile=original
ATTENDEE;ROLE=REQ-PARTICIPANT;PARTSTAT=ACCEPTED;RSVP=TRUE;CN="Bryan Ch
 an":http://phillytodo.com/profile/BryanChan
END:VEVENT
END:VCALENDAR
