BEGIN:VCALENDAR
PRODID:NingEventWidget-v1
VERSION:2.0
METHOD:PUBLISH
BEGIN:VEVENT
UID:4320450:Event:38173
DTSTAMP:20260425T142549Z
SUMMARY:FIVE DOLLAR COMEDY WEEK
DESCRIPTION:Get ready, world. Your price is about to change.It's FIVE 
 DOLLAR COMEDY WEEK - seven days of brand new, original comedy shows fr
 om Philadelphia's funniest comedians. August 25th - 31st at the Shubin
  Theatre (407 Bainbridge St. Philadelphia, PA 19147).For a full schedu
 le of events and more, go to:www.fivedollarcomedyweek.comTickets to ea
 ch show are just FIVE DOLLARS!OR: If you want to see a bunch of shows 
 throughout the week, you can buy a wristband at the theater for just $
 25, which gives you unlimited access to every show and workshop throug
 hout the entire week - a potential 83% discount!Either way, you can re
 serve your tickets NOW to every show and workshop at:www.fivedollarcom
 edyweek.com/reserve\n\nFor more information visit http://phillytodo.co
 m/events/five-dollar-comedy-week
DTSTART:20140825T220000Z
DTEND:20140901T030000Z
CATEGORIES:comedy, festival
LOCATION:The Shubin Theatre
WEBSITE:http://www.fivedollarcomedyweek.com
URL:http://www.fivedollarcomedyweek.com
CONTACT:6092879194
ORGANIZER:Aaron Nevins & Kate Banford
ATTACH;FMTTYPE="image/jpeg":http://storage.ning.com/topology/rest/1.0/
 file/get/3054980015?profile=original
ATTENDEE;ROLE=REQ-PARTICIPANT;PARTSTAT=ACCEPTED;RSVP=TRUE;CN="Aaron Ne
 vins":http://phillytodo.com/profile/AaronNevins
END:VEVENT
END:VCALENDAR
