BEGIN:VCALENDAR
PRODID:NingEventWidget-v1
VERSION:2.0
METHOD:PUBLISH
BEGIN:VEVENT
UID:4320450:Event:41117
DTSTAMP:20260425T141124Z
SUMMARY:Five Dollar Comedy Week
DESCRIPTION:Seven straight days of original, experimental comedy shows
 , semi-educational workshops and envelope-pushing late night secret sh
 ows - all at a price that even you can afford! Tickets are just $5 eac
 h, or $25 for a deluxe wristband that gets you into everything.\n\nSee
  the full schedule and reserve tickets:\nwww.fivedollarcomedyweek.com/
 reserve\n\nFor more information visit http://phillytodo.com/events/fiv
 e-dollar-comedy-week-2
DTSTART:20150720T230000Z
DTEND:20150727T030000Z
CATEGORIES:comedy, festival
LOCATION:Plays & Players Theater
WEBSITE:http://fivedollarcomedyweek.com
URL:http://fivedollarcomedyweek.com
CONTACT:6092879194
ORGANIZER:Five Dollar Comedy
ATTACH;FMTTYPE="image/jpeg":http://storage.ning.com/topology/rest/1.0/
 file/get/3054989959?profile=original
ATTENDEE;ROLE=REQ-PARTICIPANT;PARTSTAT=ACCEPTED;RSVP=TRUE;CN="Aaron Ne
 vins":http://phillytodo.com/profile/AaronNevins
END:VEVENT
END:VCALENDAR
