BEGIN:VCALENDAR
PRODID:NingEventWidget-v1
VERSION:2.0
METHOD:PUBLISH
BEGIN:VEVENT
UID:4320450:Event:39822
DTSTAMP:20260425T124922Z
SUMMARY:FIVE DOLLAR COMEDY WEEK
DESCRIPTION:Seven straight days of original, experimental comedy shows
 , semi-educational fake workshops and envelope-pushing late night secr
 et shows - all at a price that even you can afford! Tickets are just $
 5 each, or $25 for a wristband that gets you into everything.\n\nFor m
 ore information visit http://phillytodo.com/events/five-dollar-comedy-
 week-1
DTSTART:20150323T230000Z
DTEND:20150330T034500Z
CATEGORIES:"www.fivedollarcomedyweek.com"
LOCATION:The Plays & Players Theater
WEBSITE:http://fivedollarcomedyweek.com
URL:http://fivedollarcomedyweek.com
CONTACT:6092879194
ORGANIZER:Five Dollar Comedy
ATTACH;FMTTYPE="image/jpeg":http://storage.ning.com/topology/rest/1.0/
 file/get/3054987420?profile=original
ATTENDEE;ROLE=REQ-PARTICIPANT;PARTSTAT=ACCEPTED;RSVP=TRUE;CN="Aaron Ne
 vins":http://phillytodo.com/profile/AaronNevins
END:VEVENT
END:VCALENDAR
