BEGIN:VCALENDAR
PRODID:NingEventWidget-v1
VERSION:2.0
METHOD:PUBLISH
BEGIN:VEVENT
UID:4320450:Event:18008
DTSTAMP:20260425T175802Z
SUMMARY:Fit. Hip. Healthy Trunk Show with Lithe Wear and NINO Brand!
DESCRIPTION:Meet and greet with Lithe Wear’s Studio + Street design 
 team Lithe Method’s Lauren Boggi and Philadelphia Renowned NINO Bran
 d Designer Bela Shehu, as they bring fit, hip and healthy to life for 
 an evening of fitness, fashion, and food during The Philadelphia Colle
 ction! Purchase any Lithe Wear piece and go home with 3 complimentary 
 Lithe Method classes to be redeemed at any Lithe Method location. Pair
  your Lithe Wear purchase with street style from Bela Shehu’s NINO B
 rand. At the exclusive Bela Shehu appearance, all NINO Brand pieces wi
 ll be sold up to 60% off! Sample lean, local, and seasonal bites of Li
 the Foods and toast to being a fashionably healthy woman with compleme
 ntary glasses of wine. Enter your name to win a free 10-class Lithe Me
 thod package!\n\nFor more information visit http://phillytodo.com/even
 ts/fit-hip-healthy-trunk-show-with-lithe-wear-and-nino-brand
DTSTART:20110920T210000Z
DTEND:20110921T000000Z
CATEGORIES:"health/fashion"
LOCATION:Lithe Old City
WEBSITE:http://lithemethod.com
URL:http://lithemethod.com
CONTACT:
ORGANIZER;CN=CashmanAssoc:http://phillytodo.com/profile/CashmanAssoc
ATTACH;FMTTYPE="image/jpeg":
ATTENDEE;ROLE=REQ-PARTICIPANT;PARTSTAT=ACCEPTED;RSVP=TRUE;CN=CashmanAs
 soc:http://phillytodo.com/profile/CashmanAssoc
END:VEVENT
END:VCALENDAR
