BEGIN:VCALENDAR
PRODID:NingEventWidget-v1
VERSION:2.0
METHOD:PUBLISH
BEGIN:VEVENT
UID:4320450:Event:55604
DTSTAMP:20260425T130609Z
SUMMARY:Fishtown Beer Runners X Fishtown Brewpub Beer Release
DESCRIPTION:What’s better than a cold beer after a run? Join the Fis
 htown Beer Runners and Fishtown Brewpub on Thursday, June 21st for a 
 half mile run (from Palmer Park to Fishtown Brewpub) followed by the r
 elease of Fishtown Brewpub’s newest beer: Beatrice-Marie DDH Black I
 PA, created by Keith Tomaselli, leader of Fishtown Beer Runners! Fish
 town Brewpub will be donating a portion of all sales to the American C
 ancer Society. So whether you like to run, drink beer, or both, come t
 o The Fishtown Brewpub to support an amazing cause!  \n \nREMEMBER T
 O BRING YOUR ID! * You do not need to be a member of Fishtown Beer Ru
 nners to join in the run**\n\n\nFor more information visit http://phil
 lytodo.com/events/fishtown-beer-runners-x-fishtown-brewpub-beer-releas
 e
DTSTART:20180621T230000Z
DTEND:20180622T034500Z
CATEGORIES:fundraiser
LOCATION:The run will start at Palmer Park located at Frankford Ave &a
 mp; East Palmer, and end at Fishtown Brewpub: 1101 Frankford Ave., Phi
 ladelphia, PA 19125
WEBSITE:http://www.facebook.com/events/1020525161419114/
URL:http://www.facebook.com/events/1020525161419114/
CONTACT:215-990-1396
ORGANIZER;CN=CashmanAssoc:http://phillytodo.com/profile/CashmanAssoc
ATTACH;FMTTYPE="image/jpeg":http://storage.ning.com/topology/rest/1.0/
 file/get/3055015624?profile=original
ATTENDEE;ROLE=REQ-PARTICIPANT;PARTSTAT=ACCEPTED;RSVP=TRUE;CN=CashmanAs
 soc:http://phillytodo.com/profile/CashmanAssoc
END:VEVENT
END:VCALENDAR
