BEGIN:VCALENDAR
PRODID:NingEventWidget-v1
VERSION:2.0
METHOD:PUBLISH
BEGIN:VEVENT
UID:4320450:Event:55120
DTSTAMP:20260425T125755Z
SUMMARY:First Wednesday’s in Chestnut Hill
DESCRIPTION:Beginning May 2, shop, dine, and unwind as Chestnut Hill B
 usiness District hosts First Wednesday’s in Chestnut Hill. Enjoy ext
 ended store hours, shopping discounts, food and drink specials, free p
 arking, and live entertainment along Germantown Ave from 5-8. Give-a-w
 ays and beverage samples will also be combined with rotating art and g
 allery exhibitions and special promotions only available at First Wedn
 esday’s to kick off the summer tradition.\n\nFor more information vi
 sit http://phillytodo.com/events/first-wednesday-s-in-chestnut-hill
DTSTART:20180502T210000Z
DTEND:20180503T000000Z
CATEGORIES:night, life
LOCATION:Chestnut Hill
WEBSITE:https://chestnuthillpa.com/first-wednesdays-on-the-hill/
URL:https://chestnuthillpa.com/first-wednesdays-on-the-hill/
CONTACT:
ORGANIZER:
ATTACH;FMTTYPE="image/jpeg":http://storage.ning.com/topology/rest/1.0/
 file/get/3055016201?profile=original
ATTENDEE;ROLE=REQ-PARTICIPANT;PARTSTAT=ACCEPTED;RSVP=TRUE;CN="Bryan Ch
 an":http://phillytodo.com/profile/BryanChan
END:VEVENT
END:VCALENDAR
