BEGIN:VCALENDAR
PRODID:NingEventWidget-v1
VERSION:2.0
METHOD:PUBLISH
BEGIN:VEVENT
UID:4320450:Event:31690
DTSTAMP:20260425T172350Z
SUMMARY:First Friday THE Late Edition - Art Exhibition Opening Recepti
 on 5/3 9-11pm
DESCRIPTION:Roll through for the opening reception of new works by Jos
 eph Hasenauer and Kathryn Moran in our upstairs loft. The two artists
  will be exhibiting beautiful life in colors sure to transition you ri
 ght into a spring state of mind!\n \nHASENAUER: \nWorked years as a 
 freelance illustrator. Published in video gaming and music magazines, 
 T-shirts for national apparel company and several newspaper editorials
 . Excelling in many mediums; Drawing, Painting, Digital Media, Design
 , Photography and Film. \nParticipating in solo and group shows for p
 aintings and photography. Currently Owns and operates as creative dire
 ctor of the award winning OSBX creative group.\n \nThe combination o
 f the two most complex, intelligent and beautiful living things on the
  planet... Women and Octopus. Both are a complete mysteries to me. So,
  it made perfect sense that they would best friends - This implausible
  coupling made much more sense on a the bar napkin sketch 3 years ago.
 .. but, then again, I was full of whiskeys. \n \nMORAN: \nI paint t
 he same subject matter multiple times, not to understand it better, bu
 t to distance myself from it. This limitation draws my focus from the 
 ''what'' to the ''how''. It is similar to saying the same word over an
 d over again. Llama, llama, llama. Wolf, wolf, wolf. The word will beg
 in to lose it's original meaning & resonate as sounds.\nIt is not the 
 llama or the wolf that I love, it is the layers created to compose the
  llama or the wolf. It is the moment when the original pink that was l
 aid down peeks through the yellow that has become the prominent field 
 of color. I try to never fully cover what is underneath, to show the s
 earch involved in the construction of each work. The layers create a v
 isual record of my process. \n \n---\n \nwhen the galleries close, 
 cheese & wine have run dry... \nTHE late edition - we've got you cove
 red.\nDrink specials and complimentary snack buffet 9-11pm!\n\n\nFor m
 ore information visit http://phillytodo.com/events/first-friday-the-la
 te-edition-art-exhibition-opening-reception-5
DTSTART:20130504T010000Z
DTEND:20130504T040000Z
CATEGORIES:art, exhibition, opening
LOCATION:North Bowl Lounge N' Lanes
WEBSITE:http://www.northbowlphilly.com
URL:http://www.northbowlphilly.com
CONTACT:2152382695
ORGANIZER;CN="North Bowl @northbowlphilly":http://phillytodo.com/profi
 le/northbowlphilly
ATTACH;FMTTYPE="image/jpeg":http://storage.ning.com/topology/rest/1.0/
 file/get/3054965507?profile=original
ATTENDEE;ROLE=REQ-PARTICIPANT;PARTSTAT=ACCEPTED;RSVP=TRUE;CN="North Bo
 wl @northbowlphilly":http://phillytodo.com/profile/northbowlphilly
END:VEVENT
END:VCALENDAR
